BEGIN:VCALENDAR
VERSION:2.0
PRODID:-//TePS.fi - ECPv6.15.20//NONSGML v1.0//EN
CALSCALE:GREGORIAN
METHOD:PUBLISH
X-WR-CALNAME:TePS.fi
X-ORIGINAL-URL:https://teps.fi
X-WR-CALDESC:Tapahtumat TePS.fi
REFRESH-INTERVAL;VALUE=DURATION:PT1H
X-Robots-Tag:noindex
X-PUBLISHED-TTL:PT1H
BEGIN:VTIMEZONE
TZID:Europe/Helsinki
BEGIN:DAYLIGHT
TZOFFSETFROM:+0200
TZOFFSETTO:+0300
TZNAME:EEST
DTSTART:20200329T010000
END:DAYLIGHT
BEGIN:STANDARD
TZOFFSETFROM:+0300
TZOFFSETTO:+0200
TZNAME:EET
DTSTART:20201025T010000
END:STANDARD
BEGIN:DAYLIGHT
TZOFFSETFROM:+0200
TZOFFSETTO:+0300
TZNAME:EEST
DTSTART:20210328T010000
END:DAYLIGHT
BEGIN:STANDARD
TZOFFSETFROM:+0300
TZOFFSETTO:+0200
TZNAME:EET
DTSTART:20211031T010000
END:STANDARD
BEGIN:DAYLIGHT
TZOFFSETFROM:+0200
TZOFFSETTO:+0300
TZNAME:EEST
DTSTART:20220327T010000
END:DAYLIGHT
BEGIN:STANDARD
TZOFFSETFROM:+0300
TZOFFSETTO:+0200
TZNAME:EET
DTSTART:20221030T010000
END:STANDARD
END:VTIMEZONE
BEGIN:VEVENT
DTSTART;VALUE=DATE:20210508
DTEND;VALUE=DATE:20210516
DTSTAMP:20260423T062719
CREATED:20201102T102423Z
LAST-MODIFIED:20201102T102423Z
UID:877-1620432000-1621123199@teps.fi
SUMMARY:Lanssitalkoot laskujen yhteydessä 8. ja 15.5.2021
DESCRIPTION:Tänä vuonna ei erillisiä lanssitalkoita\, vaan jokainen siivoaa jälkensä laskupäivän aikana ja myös yhteisiä kunnostuksia tehdään oman veneen vuoroa odotellessa.
URL:https://teps.fi/tapahtuma/lanssitalkoot-laskujen-yhteydessa-8-ja-15-5-2021/
LOCATION:Suopelto\, Ilolantie 29-39\, Sysmä\, 19700\, Suomi
END:VEVENT
END:VCALENDAR