BEGIN:VCALENDAR
VERSION:2.0
PRODID:-//TePS.fi - ECPv6.15.20//NONSGML v1.0//EN
CALSCALE:GREGORIAN
METHOD:PUBLISH
X-WR-CALNAME:TePS.fi
X-ORIGINAL-URL:https://teps.fi
X-WR-CALDESC:Tapahtumat TePS.fi
REFRESH-INTERVAL;VALUE=DURATION:PT1H
X-Robots-Tag:noindex
X-PUBLISHED-TTL:PT1H
BEGIN:VTIMEZONE
TZID:Europe/Helsinki
BEGIN:DAYLIGHT
TZOFFSETFROM:+0200
TZOFFSETTO:+0300
TZNAME:EEST
DTSTART:20200329T010000
END:DAYLIGHT
BEGIN:STANDARD
TZOFFSETFROM:+0300
TZOFFSETTO:+0200
TZNAME:EET
DTSTART:20201025T010000
END:STANDARD
BEGIN:DAYLIGHT
TZOFFSETFROM:+0200
TZOFFSETTO:+0300
TZNAME:EEST
DTSTART:20210328T010000
END:DAYLIGHT
BEGIN:STANDARD
TZOFFSETFROM:+0300
TZOFFSETTO:+0200
TZNAME:EET
DTSTART:20211031T010000
END:STANDARD
BEGIN:DAYLIGHT
TZOFFSETFROM:+0200
TZOFFSETTO:+0300
TZNAME:EEST
DTSTART:20220327T010000
END:DAYLIGHT
BEGIN:STANDARD
TZOFFSETFROM:+0300
TZOFFSETTO:+0200
TZNAME:EET
DTSTART:20221030T010000
END:STANDARD
END:VTIMEZONE
BEGIN:VEVENT
DTSTART;TZID=Europe/Helsinki:20210522T090000
DTEND;TZID=Europe/Helsinki:20210522T140000
DTSTAMP:20260423T062737
CREATED:20210101T150339Z
LAST-MODIFIED:20210504T152709Z
UID:906-1621674000-1621692000@teps.fi
SUMMARY:Yhteiskatsastus Suopellossa
DESCRIPTION:Ensimmäinen yhteiskatsastuspäivä Suopellon satamassa. Katsastukset tehdään suunnilleen tulojärjestyksessä useamman katsastajan voimin.\nLisätietoja katsastuspäällikkö Hannu Heinoselta puh. 0500 840 794 ja email: katsastus[ät]teps.fi.
URL:https://teps.fi/tapahtuma/yhteiskatsastus-suopellossa/
LOCATION:Suopelto\, Ilolantie 29-39\, Sysmä\, 19700\, Suomi
END:VEVENT
END:VCALENDAR