BEGIN:VCALENDAR
VERSION:2.0
PRODID:-//TePS.fi - ECPv6.15.20//NONSGML v1.0//EN
CALSCALE:GREGORIAN
METHOD:PUBLISH
X-ORIGINAL-URL:https://teps.fi
X-WR-CALDESC:Tapahtumat TePS.fi
REFRESH-INTERVAL;VALUE=DURATION:PT1H
X-Robots-Tag:noindex
X-PUBLISHED-TTL:PT1H
BEGIN:VTIMEZONE
TZID:Europe/Helsinki
BEGIN:DAYLIGHT
TZOFFSETFROM:+0200
TZOFFSETTO:+0300
TZNAME:EEST
DTSTART:20210328T010000
END:DAYLIGHT
BEGIN:STANDARD
TZOFFSETFROM:+0300
TZOFFSETTO:+0200
TZNAME:EET
DTSTART:20211031T010000
END:STANDARD
BEGIN:DAYLIGHT
TZOFFSETFROM:+0200
TZOFFSETTO:+0300
TZNAME:EEST
DTSTART:20220327T010000
END:DAYLIGHT
BEGIN:STANDARD
TZOFFSETFROM:+0300
TZOFFSETTO:+0200
TZNAME:EET
DTSTART:20221030T010000
END:STANDARD
BEGIN:DAYLIGHT
TZOFFSETFROM:+0200
TZOFFSETTO:+0300
TZNAME:EEST
DTSTART:20230326T010000
END:DAYLIGHT
BEGIN:STANDARD
TZOFFSETFROM:+0300
TZOFFSETTO:+0200
TZNAME:EET
DTSTART:20231029T010000
END:STANDARD
END:VTIMEZONE
BEGIN:VEVENT
DTSTART;TZID=Europe/Helsinki:20220903T090000
DTEND;TZID=Europe/Helsinki:20220903T150000
DTSTAMP:20260422T040547
CREATED:20220210T171125Z
LAST-MODIFIED:20230228T133750Z
UID:1222-1662195600-1662217200@teps.fi
SUMMARY:TePS eskaaderi Suopelto-Sahanlahti
DESCRIPTION:Eskaaderi starttaa Suopellosta la 3.9. klo 10 ja suuntaa Kuhmoisiin. Kuhmoisiin saavutaan iltapäivällä arviolta klo 15. Perillä on luvassa yhdessä oloa ja Sataman valot -tapahtumasta nauttimista. Seura esittäytyy omalla osastollaan ja pyrimme järjestämään yleisölle mahdollisuuden tutustua veneisiimme. Eskaaderin tuuliraja on 10 m/s. \n  \nIlmoittaudu eskaaderiin täällä: https://docs.google.com/forms/d/1fbPKrmY6iFyXlKCm8XDkMreEESeVy2Mf-KMRnSarxA0/edit \nVastaukset pyydetään ke 31.8.2022 mennessä! \nAikataulu ja ohjelma \nEskaaderin aikataulu: \n\nklo 9 kipparikokous Pinxinmäen laiturilla\nklo 10 lähtö ja ryhmittyminen eskaaderiin Suopellossa. Kärjessä kommodorin vene (s/y Marlena)\, eskaaderin perässä varakommodorin vene (s/y Tango)\nklo 10:30 Suopellon lahden jälkeen vapaata ajoa tai purjehdusta. Eskaaderiin on mahdollista liittyä reitin varrelta tai Kuhmoisten pään kokoontumispaikalla.\nklo 14 saapuminen kokoontumispaikalle Kuhmoisten lähistöllä. Kokoontumispaikka määräytyy valitun reitin mukaan\, reitti ilmoitetaan loppuviikosta ennen eskaaderia sääolojen mukaisesti.\nklo 15 saapuminen Kuhmoisiin Sahanrantaan\,  kärjessä kommodorin vene (s/y Marlena)\, eskaaderin perässä varakommodorin vene (s/y Tango). TePSille varattu laituripaikat.\n\nPerillä Kuhmoisissa: \n\nSeura esittäytyy omalla osastollaan ja veneisiin pääsee tutustumaan kipparin luvalla. Halukkaat saavat tulla osastolle esittelemään seuratoimintaa\nSeuran minigolfturnaus pelataan iltapäivästä\nSaunat ovat seuralaisille tarjolla (naiset klo 17-18\, miehet klo 18-19)\nKäydään yhdessä syömässä Sahanrannassa n klo 19.30\nSataman valot illalla\nSeura tarjoaa laiturimaksun\, saunat ja minigolfin\, ruokailu omakustanteisesti
URL:https://teps.fi/tapahtuma/teps-eskaaderi-suopelto-sahanlahti/
LOCATION:Pixinmäki\, Suopellontie 644\, Sysmä\, Suomi\, 19700
END:VEVENT
END:VCALENDAR