BEGIN:VCALENDAR
VERSION:2.0
PRODID:-//TePS.fi - ECPv6.15.20//NONSGML v1.0//EN
CALSCALE:GREGORIAN
METHOD:PUBLISH
X-ORIGINAL-URL:https://teps.fi
X-WR-CALDESC:Tapahtumat TePS.fi
REFRESH-INTERVAL;VALUE=DURATION:PT1H
X-Robots-Tag:noindex
X-PUBLISHED-TTL:PT1H
BEGIN:VTIMEZONE
TZID:Europe/Helsinki
BEGIN:DAYLIGHT
TZOFFSETFROM:+0200
TZOFFSETTO:+0300
TZNAME:EEST
DTSTART:20210328T010000
END:DAYLIGHT
BEGIN:STANDARD
TZOFFSETFROM:+0300
TZOFFSETTO:+0200
TZNAME:EET
DTSTART:20211031T010000
END:STANDARD
BEGIN:DAYLIGHT
TZOFFSETFROM:+0200
TZOFFSETTO:+0300
TZNAME:EEST
DTSTART:20220327T010000
END:DAYLIGHT
BEGIN:STANDARD
TZOFFSETFROM:+0300
TZOFFSETTO:+0200
TZNAME:EET
DTSTART:20221030T010000
END:STANDARD
BEGIN:DAYLIGHT
TZOFFSETFROM:+0200
TZOFFSETTO:+0300
TZNAME:EEST
DTSTART:20230326T010000
END:DAYLIGHT
BEGIN:STANDARD
TZOFFSETFROM:+0300
TZOFFSETTO:+0200
TZNAME:EET
DTSTART:20231029T010000
END:STANDARD
END:VTIMEZONE
BEGIN:VEVENT
DTSTART;VALUE=DATE:20220910
DTEND;VALUE=DATE:20220911
DTSTAMP:20260422T040547
CREATED:20220210T171901Z
LAST-MODIFIED:20230228T133750Z
UID:1224-1662768000-1662854399@teps.fi
SUMMARY:Syystalkoot ja venetsialaiset
DESCRIPTION:Taruniemen talvikuntoon laittoa ja venetsialaisten juhlintaa TePS perinteen mukaisesti muita myöhemmin.
URL:https://teps.fi/tapahtuma/syystalkoot-ja-venetsialaiset/
LOCATION:Taruniemi\, 61.39271422919249\, 25.539911371164823
CATEGORIES:Juhlat,Talkoot
END:VEVENT
END:VCALENDAR