BEGIN:VCALENDAR
VERSION:2.0
PRODID:-//TePS.fi - ECPv6.15.20//NONSGML v1.0//EN
CALSCALE:GREGORIAN
METHOD:PUBLISH
X-WR-CALNAME:TePS.fi
X-ORIGINAL-URL:https://teps.fi
X-WR-CALDESC:Tapahtumat TePS.fi
REFRESH-INTERVAL;VALUE=DURATION:PT1H
X-Robots-Tag:noindex
X-PUBLISHED-TTL:PT1H
BEGIN:VTIMEZONE
TZID:Europe/Helsinki
BEGIN:DAYLIGHT
TZOFFSETFROM:+0200
TZOFFSETTO:+0300
TZNAME:EEST
DTSTART:20210328T010000
END:DAYLIGHT
BEGIN:STANDARD
TZOFFSETFROM:+0300
TZOFFSETTO:+0200
TZNAME:EET
DTSTART:20211031T010000
END:STANDARD
BEGIN:DAYLIGHT
TZOFFSETFROM:+0200
TZOFFSETTO:+0300
TZNAME:EEST
DTSTART:20220327T010000
END:DAYLIGHT
BEGIN:STANDARD
TZOFFSETFROM:+0300
TZOFFSETTO:+0200
TZNAME:EET
DTSTART:20221030T010000
END:STANDARD
BEGIN:DAYLIGHT
TZOFFSETFROM:+0200
TZOFFSETTO:+0300
TZNAME:EEST
DTSTART:20230326T010000
END:DAYLIGHT
BEGIN:STANDARD
TZOFFSETFROM:+0300
TZOFFSETTO:+0200
TZNAME:EET
DTSTART:20231029T010000
END:STANDARD
END:VTIMEZONE
BEGIN:VEVENT
DTSTART;TZID=Europe/Helsinki:20220917T100000
DTEND;TZID=Europe/Helsinki:20220917T180000
DTSTAMP:20260422T040443
CREATED:20220210T171949Z
LAST-MODIFIED:20230228T133750Z
UID:1226-1663408800-1663437600@teps.fi
SUMMARY:Lanssitalkoot
DESCRIPTION:Lanssitalkoot ovat lauantaina 17.9 alkaen klo 10. Vaikka siellä onkin jo aloitettu raivaus- ym. töitä\, vesakon raivaamista ja muun kasvillisuuden niittoa riittää. Tervetuloa mukaan laittamaan myös oma pukkisi/paikkasi kuntoon nostopäiviä varten.
URL:https://teps.fi/tapahtuma/lanssitalkoot-2/
LOCATION:Suopelto\, Ilolantie 29-39\, Sysmä\, 19700\, Suomi
CATEGORIES:Veneiden nostot ja laskut
END:VEVENT
END:VCALENDAR