BEGIN:VCALENDAR
VERSION:2.0
PRODID:-//TePS.fi - ECPv6.15.20//NONSGML v1.0//EN
CALSCALE:GREGORIAN
METHOD:PUBLISH
X-WR-CALNAME:TePS.fi
X-ORIGINAL-URL:https://teps.fi
X-WR-CALDESC:Tapahtumat TePS.fi
REFRESH-INTERVAL;VALUE=DURATION:PT1H
X-Robots-Tag:noindex
X-PUBLISHED-TTL:PT1H
BEGIN:VTIMEZONE
TZID:Europe/Helsinki
BEGIN:DAYLIGHT
TZOFFSETFROM:+0200
TZOFFSETTO:+0300
TZNAME:EEST
DTSTART:20210328T010000
END:DAYLIGHT
BEGIN:STANDARD
TZOFFSETFROM:+0300
TZOFFSETTO:+0200
TZNAME:EET
DTSTART:20211031T010000
END:STANDARD
BEGIN:DAYLIGHT
TZOFFSETFROM:+0200
TZOFFSETTO:+0300
TZNAME:EEST
DTSTART:20220327T010000
END:DAYLIGHT
BEGIN:STANDARD
TZOFFSETFROM:+0300
TZOFFSETTO:+0200
TZNAME:EET
DTSTART:20221030T010000
END:STANDARD
BEGIN:DAYLIGHT
TZOFFSETFROM:+0200
TZOFFSETTO:+0300
TZNAME:EEST
DTSTART:20230326T010000
END:DAYLIGHT
BEGIN:STANDARD
TZOFFSETFROM:+0300
TZOFFSETTO:+0200
TZNAME:EET
DTSTART:20231029T010000
END:STANDARD
END:VTIMEZONE
BEGIN:VEVENT
DTSTART;TZID=Europe/Helsinki:20221008T080000
DTEND;TZID=Europe/Helsinki:20221008T140000
DTSTAMP:20260422T023410
CREATED:20220210T172137Z
LAST-MODIFIED:20230228T133750Z
UID:1230-1665216000-1665237600@teps.fi
SUMMARY:Veneiden nosto 2
DESCRIPTION:Lauantai  8.10.2022 alkaen klo 8 \nPapillon \nPaua \nTuuli \nTango \nAiju \nSelena \nElli \nSofia \nSade \nAnni \nHarriet
URL:https://teps.fi/tapahtuma/veneiden-nosto-2-2/
LOCATION:Suopelto\, Ilolantie 29-39\, Sysmä\, 19700\, Suomi
CATEGORIES:Veneiden nostot ja laskut
END:VEVENT
END:VCALENDAR