BEGIN:VCALENDAR
VERSION:2.0
PRODID:-//TePS.fi - ECPv6.15.20//NONSGML v1.0//EN
CALSCALE:GREGORIAN
METHOD:PUBLISH
X-ORIGINAL-URL:https://teps.fi
X-WR-CALDESC:Tapahtumat TePS.fi
REFRESH-INTERVAL;VALUE=DURATION:PT1H
X-Robots-Tag:noindex
X-PUBLISHED-TTL:PT1H
BEGIN:VTIMEZONE
TZID:Europe/Helsinki
BEGIN:DAYLIGHT
TZOFFSETFROM:+0200
TZOFFSETTO:+0300
TZNAME:EEST
DTSTART:20220327T010000
END:DAYLIGHT
BEGIN:STANDARD
TZOFFSETFROM:+0300
TZOFFSETTO:+0200
TZNAME:EET
DTSTART:20221030T010000
END:STANDARD
BEGIN:DAYLIGHT
TZOFFSETFROM:+0200
TZOFFSETTO:+0300
TZNAME:EEST
DTSTART:20230326T010000
END:DAYLIGHT
BEGIN:STANDARD
TZOFFSETFROM:+0300
TZOFFSETTO:+0200
TZNAME:EET
DTSTART:20231029T010000
END:STANDARD
BEGIN:DAYLIGHT
TZOFFSETFROM:+0200
TZOFFSETTO:+0300
TZNAME:EEST
DTSTART:20240331T010000
END:DAYLIGHT
BEGIN:STANDARD
TZOFFSETFROM:+0300
TZOFFSETTO:+0200
TZNAME:EET
DTSTART:20241027T010000
END:STANDARD
END:VTIMEZONE
BEGIN:VEVENT
DTSTART;VALUE=DATE:20230605
DTEND;VALUE=DATE:20230609
DTSTAMP:20260421T140138
CREATED:20230511T175602Z
LAST-MODIFIED:20230511T175602Z
UID:1852-1685923200-1686268799@teps.fi
SUMMARY:Purjehduksen alkeis- ja jatkokurssit Vääksyssä
DESCRIPTION:Kurssit on tarkoitettu uimataitoisille 6-15-vuotiaille lapsille ja nuorille. Jollakoulussa saat uusia kavereita ja opit purjehtimiseen liittyvät perusjutut muutamassa päivässä. Kurssin vetäjät ovat Suomen Purjehdus ja Veneily ry:n kouluttamia lasten ja nuorten purjehduksen ohjaajia.  \nKatso lisätiedot ja ilmoittaudu!
URL:https://teps.fi/tapahtuma/purjehduksen-alkeis-ja-jatkokurssit-vaaksyssa/
LOCATION:Majakkapaviljonki\, Vääksy\, Ämmäläntie 20\, 17200 Vääksy
CATEGORIES:Junioritoiminta
ATTACH;FMTTYPE=image/png:https://teps.fi/wp-content/uploads/2023/05/epj2023_3.png
END:VEVENT
END:VCALENDAR