BEGIN:VCALENDAR
VERSION:2.0
PRODID:-//TePS.fi - ECPv6.15.20//NONSGML v1.0//EN
CALSCALE:GREGORIAN
METHOD:PUBLISH
X-WR-CALNAME:TePS.fi
X-ORIGINAL-URL:https://teps.fi
X-WR-CALDESC:Tapahtumat TePS.fi
REFRESH-INTERVAL;VALUE=DURATION:PT1H
X-Robots-Tag:noindex
X-PUBLISHED-TTL:PT1H
BEGIN:VTIMEZONE
TZID:Europe/Helsinki
BEGIN:DAYLIGHT
TZOFFSETFROM:+0200
TZOFFSETTO:+0300
TZNAME:EEST
DTSTART:20190331T010000
END:DAYLIGHT
BEGIN:STANDARD
TZOFFSETFROM:+0300
TZOFFSETTO:+0200
TZNAME:EET
DTSTART:20191027T010000
END:STANDARD
BEGIN:DAYLIGHT
TZOFFSETFROM:+0200
TZOFFSETTO:+0300
TZNAME:EEST
DTSTART:20200329T010000
END:DAYLIGHT
BEGIN:STANDARD
TZOFFSETFROM:+0300
TZOFFSETTO:+0200
TZNAME:EET
DTSTART:20201025T010000
END:STANDARD
BEGIN:DAYLIGHT
TZOFFSETFROM:+0200
TZOFFSETTO:+0300
TZNAME:EEST
DTSTART:20210328T010000
END:DAYLIGHT
BEGIN:STANDARD
TZOFFSETFROM:+0300
TZOFFSETTO:+0200
TZNAME:EET
DTSTART:20211031T010000
END:STANDARD
END:VTIMEZONE
BEGIN:VTIMEZONE
TZID:Europe/Helsinki
BEGIN:DAYLIGHT
TZOFFSETFROM:+0200
TZOFFSETTO:+0300
TZNAME:EEST
DTSTART:20190331T010000
END:DAYLIGHT
BEGIN:STANDARD
TZOFFSETFROM:+0300
TZOFFSETTO:+0200
TZNAME:EET
DTSTART:20191027T010000
END:STANDARD
BEGIN:DAYLIGHT
TZOFFSETFROM:+0200
TZOFFSETTO:+0300
TZNAME:EEST
DTSTART:20200329T010000
END:DAYLIGHT
BEGIN:STANDARD
TZOFFSETFROM:+0300
TZOFFSETTO:+0200
TZNAME:EET
DTSTART:20201025T010000
END:STANDARD
BEGIN:DAYLIGHT
TZOFFSETFROM:+0200
TZOFFSETTO:+0300
TZNAME:EEST
DTSTART:20210328T010000
END:DAYLIGHT
BEGIN:STANDARD
TZOFFSETFROM:+0300
TZOFFSETTO:+0200
TZNAME:EET
DTSTART:20211031T010000
END:STANDARD
END:VTIMEZONE
BEGIN:VEVENT
DTSTART;VALUE=DATE:20200912
DTEND;VALUE=DATE:20200913
DTSTAMP:20260425T172019
CREATED:20200323T201351Z
LAST-MODIFIED:20250528T090428Z
UID:212-1599868800-1599955199@teps.fi
SUMMARY:Vuosikokous ja Taruniemen syystalkoot
DESCRIPTION:Tervetuloa vuosikokoukseen ja syystalkoisiin\, ks. ohjelma ja ilmoittaumisohjeet + muut tiedot alta: \n  \nKutsu TePS:n vuosikokoukseen \nTämänvuotinen vuosikokous pidetään poikkeuksellisesti syyskuussa 12.9.2020\, klo 15\, Taruniemessä\, syystalkoiden yhteydessä. \nKokouspaikalle järjestetämme yhteiskuljetuksen kaikille halukkaille. Yhteiskuljetus lähtee la 12.9.2020 klo 10:00 Suopellosta ja kuljetus tapahtuu Jorma Sainion Jenni-Maria III aluksella. Paluu  Taruniemestä lähtee viimeistään n. klo 18:00. Kuljetukseen osallistuvia pyydetään lähettämään ilmoittautumiset 6.9.2020 mennessä sähköpostilla: kommodori@teps.fi \nHUOM! Jenni-Maria III:n lähtöpaikka on vaihtunut Karisalmen sillalta Suopeltoon! \nTePS tarjoaa lounaan ennen kokousta. \nKokous noudattaa alla esitettyä vahvistetun yhdistyssäännön määrittelemää kokoussisältöä. Asiat\, jotka yhdistyksen jäsen haluaa saada yhdistyksen kokouksessa käsiteltäväksi\, on esitettävä kirjallisesti hallitukselle vähintään 10 päivää ennen kokousta. \nTulethan mukaan keskustelemaan ja päättämään yhteisistä asioistamme. \nVuosikokouksessa käsiteltävät asiat: \n1. Kokouksen avaus \n2. Valitaan kokouksen puheenjohtaja\, sihteeri\, kaksi pöytäkirjantarkastajaa ja tarvittaessa kaksi ääntenlaskijaa. \n3. Todetaan kokouksen laillisuus ja päätösvaltaisuus \n4. Hyväksytään kokouksen työjärjestys \n5. Esitetään hallituksen vuosikertomus (2019) tileineen ja toiminnantarkastajien antama lausunto\, sekä päätetään tilinpäätöksen vahvistamisesta. \n6. Päätetään vastuuvapauden myöntämisestä hallitukselle ja muille tilivelvollisille. \n7. Käsitellään yhdistyksen toimintasuunnitelma (2021). \n8. Määrätään yhdistyksen jäseniltä seuraavana vuonna (2021) kannettavan liittymis- ja jäsenmaksun suuruus ja sen suorittamisen ajankohta. \n9. Vahvistetaan seuraavan vuoden talousarvio. \n10. Valitaan seuraavaksi kahdeksi vuodeksi (2021-2022) yhdistyksen kommodori tai varakommodori erovuoroisen (Janne Järvinen\, kommodori) tilalle. \n11. Valitaan seuraavaksi kahdeksi vuodeksi (2021-2022) kaksi hallituksen jäsentä erovuoroisten (Jari Autti ja Julius Hotakainen) tilalle. \n12. Valitaan toiminnantarkastaja tarkastamaan seuraavan vuoden tilejä ja hallintoa. \n13. Käsitellään muut esityslistalla olevat asiat. \n14. Kokouksen päättäminen \nTerveisin\, \nTePS Hallitus \n  \nTalkookutsu ja ohjelma: \nTukikohdassa on käynyt paljon vierailijoita ja nyt on aika laittaa Taruniemi kuntoon\, tehtävää on kertynyt runsaasti. Talkoiden yhteydessä pidetään vuosikokous. \nAikataulu: \nklo 10.00           Talkoot alkaa (tai heti kun porukka on kasassa)\nklo 10.30           Jenni-Maria III rantautuu\nLounaana kalakeitto\, iltapäivällä kahvitarjoilu\nKlo 15.00          Sääntömääräinen Vuosikokous\nKlo 18.00          Paluukuljetus Kariniemeen Jenni-Maria III kokouksen jälkeen\nIlta vapaamuotoista grillailua ja seurustelua. \nTehtävät: \n-Polttopuiden pinoaminen ja peitteleminen\n-Vessan lattian uusiminen\n-Majan katon puhdistaminen sammalesta ja muusta roskasta\n-Saunanpesu\n-Ympäristön siistimistä ja haravointia\n-Muut hommat tarpeen ja osallistujien määrän mukaan \nPuuhaillaan Taruniemi yhdessä hyvään kuntoon loppukautta ja talvea varten. Kaikki veneeseen kykenevät mukaan! \nIlmoita osallistumisestasi talkoisiin mirja.aartolahti@gmail.com talkootarjoilujen mitoittamiseksi 6.9. mennessä.
URL:https://teps.fi/tapahtuma/vuosikokous-ja-tarunimen-syystalkoot/
LOCATION:Taruniemi\, 61.39271422919249\, 25.539911371164823
CATEGORIES:Juhlat,Talkoot,Vuosikokous
END:VEVENT
BEGIN:VEVENT
DTSTART;TZID=Europe/Helsinki:20200919T100000
DTEND;TZID=Europe/Helsinki:20200920T160000
DTSTAMP:20260425T172019
CREATED:20200910T173808Z
LAST-MODIFIED:20200910T174317Z
UID:839-1600509600-1600617600@teps.fi
SUMMARY:Jollakeskuksen Syysleiri
DESCRIPTION:Hauska syysleiri 6-15-vuotiaille lapsille ja nuorille la-su 19.-20.9.2020 Vääksyn Majakkapaviljongilla – tule mukaan?\n\nSyysleirillä tunnelmoimme syksyistä Päijännettä\, purjehdimme jollilla ja seikkailemme rannassa ja vesillä. Leiri ei vaadi aiempaa kokemusta purjehduksesta ja varusteetkin saa lainaan! Kokeneemmille tarjoamme kiinnostavan leirin myös.\n\n\n\nLeiri alkaa lauantaina klo 10:00 ja päättyy sunnuntaina koko perheen yhteisiin juhlakahveihin ja kauden päätösjuhlaan noin klo 16. Leirillä yövymme sisämajoituksessa ja saunomme illalla. Leirin hinta on 60e ja se sisältää täysylläpidon. Lisätiedot ilmoittautumisen yhteydessä!\n\nJollakeskus on viiden seuran yhteinen juniorikeskus eteläisellä Päijänteellä. Menossa mukana Asikkalan pursiseura APS\, Lahden purjehdusseura LPS\, Tehin pursiseura TePS\, Hollolan Veneseura HVS sekä Heinolan pursiseura HeiPS.\n\nIlmoittautuminen: https://forms.gle/5RF223zp89mR1E2fA \nLisätietoja saa Jollakeskuksen puheenjohtajalta ja päävalmentajalta:\nAnni Leppänen\nannileppanen@gmail.com\npuh. 0445886015 (laita tekstiviesti jos en vastaa)
URL:https://teps.fi/tapahtuma/jollakeskuksen-syysleiri/
LOCATION:Majakkapaviljonki\, Vääksy\, Ämmäläntie 20\, 17200 Vääksy
END:VEVENT
BEGIN:VEVENT
DTSTART;VALUE=DATE:20200926
DTEND;VALUE=DATE:20200927
DTSTAMP:20260425T172019
CREATED:20200907T154923Z
LAST-MODIFIED:20200907T155349Z
UID:831-1601078400-1601164799@teps.fi
SUMMARY:Veneiden nosto\, päivä 1
DESCRIPTION:Ilmoittautumiset Kari Seppälälle numeroon 0504583636‬.
URL:https://teps.fi/tapahtuma/veneiden-nosto-1/
LOCATION:Suopelto\, Ilolantie 29-39\, Sysmä\, 19700\, Suomi
CATEGORIES:Veneiden nostot ja laskut
END:VEVENT
END:VCALENDAR