BEGIN:VCALENDAR
VERSION:2.0
PRODID:-//TePS.fi - ECPv6.15.20//NONSGML v1.0//EN
CALSCALE:GREGORIAN
METHOD:PUBLISH
X-WR-CALNAME:TePS.fi
X-ORIGINAL-URL:https://teps.fi
X-WR-CALDESC:Tapahtumat TePS.fi
REFRESH-INTERVAL;VALUE=DURATION:PT1H
X-Robots-Tag:noindex
X-PUBLISHED-TTL:PT1H
BEGIN:VTIMEZONE
TZID:Europe/Helsinki
BEGIN:DAYLIGHT
TZOFFSETFROM:+0200
TZOFFSETTO:+0300
TZNAME:EEST
DTSTART:20200329T010000
END:DAYLIGHT
BEGIN:STANDARD
TZOFFSETFROM:+0300
TZOFFSETTO:+0200
TZNAME:EET
DTSTART:20201025T010000
END:STANDARD
BEGIN:DAYLIGHT
TZOFFSETFROM:+0200
TZOFFSETTO:+0300
TZNAME:EEST
DTSTART:20210328T010000
END:DAYLIGHT
BEGIN:STANDARD
TZOFFSETFROM:+0300
TZOFFSETTO:+0200
TZNAME:EET
DTSTART:20211031T010000
END:STANDARD
BEGIN:DAYLIGHT
TZOFFSETFROM:+0200
TZOFFSETTO:+0300
TZNAME:EEST
DTSTART:20220327T010000
END:DAYLIGHT
BEGIN:STANDARD
TZOFFSETFROM:+0300
TZOFFSETTO:+0200
TZNAME:EET
DTSTART:20221030T010000
END:STANDARD
END:VTIMEZONE
BEGIN:VEVENT
DTSTART;TZID=Europe/Helsinki:20210414T174500
DTEND;TZID=Europe/Helsinki:20210414T190000
DTSTAMP:20260423T062911
CREATED:20210330T130906Z
LAST-MODIFIED:20210331T053316Z
UID:943-1618422300-1618426800@teps.fi
SUMMARY:Etäkoulutus - myrkkymaalit ja EU:n uusi biosidiasetus
DESCRIPTION:Myrkkymaaleista meille kertoo Oskari Hänninen Tukesista. Saamme kuulla uusinta tietoa myrkkymaaleihin liittyvästä sääntelystä järvillä ja tilaisuuden kysellä aiheesta asiantuntijalta. Tilaisuus alkaa ke 14.4.2021 klo 18\, mutta liittykää mukaan jo klo 17.45 mahdollisten teknisten ongelmien ratkomiseksi ennen koulutusta. Kesto on noin tunnin\, aluksi on parinkymmenen minuutin luento maaleista ja sen jälkeen keskustellaan myrkky- ja muista venepohjamaaleista. \nLiity Teams-koulutukseen tästä linkistä! \nJos haluaa tutustua asiaan etukäteen\, voi katsoa esimerkiksi PSS ry:n satamawebinaarin tallenteet\, jossa tätäkin aihetta käsitellään: \nPSS ry:n Satamawebinaari 16.3.2021\nPSS ry:n Satamawebinaari 17.3.2021 \nVarautukaa tekemään paljon kysymyksiä\, näin saamme enemmän tietoa pohjan maalauksesta! \nKoulutuksen järjestelyistä vastaa Ismo Glans / TePS
URL:https://teps.fi/tapahtuma/etakoulutus-myrkkymaalit-ja-eun-uusi-biosidiasetus/
LOCATION:Etäkoulutus
END:VEVENT
END:VCALENDAR