BEGIN:VCALENDAR
VERSION:2.0
PRODID:-//TePS.fi - ECPv6.15.20//NONSGML v1.0//EN
CALSCALE:GREGORIAN
METHOD:PUBLISH
X-ORIGINAL-URL:https://teps.fi
X-WR-CALDESC:Tapahtumat TePS.fi
REFRESH-INTERVAL;VALUE=DURATION:PT1H
X-Robots-Tag:noindex
X-PUBLISHED-TTL:PT1H
BEGIN:VTIMEZONE
TZID:Europe/Helsinki
BEGIN:DAYLIGHT
TZOFFSETFROM:+0200
TZOFFSETTO:+0300
TZNAME:EEST
DTSTART:20200329T010000
END:DAYLIGHT
BEGIN:STANDARD
TZOFFSETFROM:+0300
TZOFFSETTO:+0200
TZNAME:EET
DTSTART:20201025T010000
END:STANDARD
BEGIN:DAYLIGHT
TZOFFSETFROM:+0200
TZOFFSETTO:+0300
TZNAME:EEST
DTSTART:20210328T010000
END:DAYLIGHT
BEGIN:STANDARD
TZOFFSETFROM:+0300
TZOFFSETTO:+0200
TZNAME:EET
DTSTART:20211031T010000
END:STANDARD
BEGIN:DAYLIGHT
TZOFFSETFROM:+0200
TZOFFSETTO:+0300
TZNAME:EEST
DTSTART:20220327T010000
END:DAYLIGHT
BEGIN:STANDARD
TZOFFSETFROM:+0300
TZOFFSETTO:+0200
TZNAME:EET
DTSTART:20221030T010000
END:STANDARD
END:VTIMEZONE
BEGIN:VEVENT
DTSTART;VALUE=DATE:20210628
DTEND;VALUE=DATE:20210702
DTSTAMP:20260423T011934
CREATED:20210511T180911Z
LAST-MODIFIED:20210511T180911Z
UID:999-1624838400-1625183999@teps.fi
SUMMARY:Jollakeskuksen kesäleiri\, Heinola
DESCRIPTION:Lisätiedot ja ilmoittautuminen:\nwww.jollakeskus.fi
URL:https://teps.fi/tapahtuma/jollakeskuksen-kesaleiri-heinola/
END:VEVENT
BEGIN:VEVENT
DTSTART;VALUE=DATE:20210703
DTEND;VALUE=DATE:20210704
DTSTAMP:20260423T011934
CREATED:20210406T105611Z
LAST-MODIFIED:20210406T105611Z
UID:953-1625270400-1625356799@teps.fi
SUMMARY:Etelä-Päijänne ranking 2. osakilpailu (HeiPS)
DESCRIPTION:2. osakilpailu\, lisätiedot ja ilmoittautuminen: https://heinolanpursiseura.fi/seura/purjehdusjaos/kilpailutoiminta
URL:https://teps.fi/tapahtuma/etela-paijanne-ranking-2-osakilpailu-heips/
END:VEVENT
BEGIN:VEVENT
DTSTART;VALUE=DATE:20210705
DTEND;VALUE=DATE:20210711
DTSTAMP:20260423T011934
CREATED:20210511T180303Z
LAST-MODIFIED:20210511T180744Z
UID:994-1625443200-1625961599@teps.fi
SUMMARY:Naumin purjehdusleiri
DESCRIPTION:Lisätiedot ja ilmoittautuminen:\nwww.jollakeskus.fi
URL:https://teps.fi/tapahtuma/jollakoulu-tutustumispaiva-vaaksy/
END:VEVENT
BEGIN:VEVENT
DTSTART;VALUE=DATE:20210717
DTEND;VALUE=DATE:20210719
DTSTAMP:20260423T011934
CREATED:20210101T150645Z
LAST-MODIFIED:20210715T114446Z
UID:910-1626480000-1626652799@teps.fi
SUMMARY:Etelä-Päijänne ranking 3. osakilpailu Päijätsalon purjehdus & PÄM kisat (TePS)
DESCRIPTION:Seura järjestää 3. osakilpailun sekä sen yhteydessä Päijänteen mestaruuskilpailut. Katso lisätietoa täältä.
URL:https://teps.fi/tapahtuma/pp-pam-kisat-2/
END:VEVENT
BEGIN:VEVENT
DTSTART;VALUE=DATE:20210723
DTEND;VALUE=DATE:20210726
DTSTAMP:20260423T011934
CREATED:20210101T150833Z
LAST-MODIFIED:20210101T150833Z
UID:912-1626998400-1627257599@teps.fi
SUMMARY:Päijännepurjehdus
DESCRIPTION:Lisätietoa tapahtuman sivuilta: https://paijannepurjehdus.fi/2016/01/03/paijannepurjehdus/ \n 
URL:https://teps.fi/tapahtuma/paijannepurjehdus-2/
END:VEVENT
END:VCALENDAR