BEGIN:VCALENDAR
VERSION:2.0
PRODID:-//TePS.fi - ECPv6.15.20//NONSGML v1.0//EN
CALSCALE:GREGORIAN
METHOD:PUBLISH
X-WR-CALNAME:TePS.fi
X-ORIGINAL-URL:https://teps.fi
X-WR-CALDESC:Tapahtumat TePS.fi
REFRESH-INTERVAL;VALUE=DURATION:PT1H
X-Robots-Tag:noindex
X-PUBLISHED-TTL:PT1H
BEGIN:VTIMEZONE
TZID:Europe/Helsinki
BEGIN:DAYLIGHT
TZOFFSETFROM:+0200
TZOFFSETTO:+0300
TZNAME:EEST
DTSTART:20200329T010000
END:DAYLIGHT
BEGIN:STANDARD
TZOFFSETFROM:+0300
TZOFFSETTO:+0200
TZNAME:EET
DTSTART:20201025T010000
END:STANDARD
BEGIN:DAYLIGHT
TZOFFSETFROM:+0200
TZOFFSETTO:+0300
TZNAME:EEST
DTSTART:20210328T010000
END:DAYLIGHT
BEGIN:STANDARD
TZOFFSETFROM:+0300
TZOFFSETTO:+0200
TZNAME:EET
DTSTART:20211031T010000
END:STANDARD
BEGIN:DAYLIGHT
TZOFFSETFROM:+0200
TZOFFSETTO:+0300
TZNAME:EEST
DTSTART:20220327T010000
END:DAYLIGHT
BEGIN:STANDARD
TZOFFSETFROM:+0300
TZOFFSETTO:+0200
TZNAME:EET
DTSTART:20221030T010000
END:STANDARD
END:VTIMEZONE
BEGIN:VEVENT
DTSTART;VALUE=DATE:20210911
DTEND;VALUE=DATE:20210912
DTSTAMP:20260422T221024
CREATED:20210101T150920Z
LAST-MODIFIED:20210525T173706Z
UID:914-1631318400-1631404799@teps.fi
SUMMARY:Taruniemen syystalkoot\, vuosikokous ja Venetsialaiset
DESCRIPTION:
URL:https://teps.fi/tapahtuma/taruniemen-syystalkoot-ja-venetsialaiset/
LOCATION:Taruniemi\, 61.39271422919249\, 25.539911371164823
END:VEVENT
BEGIN:VEVENT
DTSTART;VALUE=DATE:20210925
DTEND;VALUE=DATE:20210926
DTSTAMP:20260422T221024
CREATED:20210101T151003Z
LAST-MODIFIED:20210920T065427Z
UID:916-1632528000-1632614399@teps.fi
SUMMARY:Veneiden yhteisnosto 1
DESCRIPTION:Yhteisnosto 1 lauantai 25.9.\n\n\n\n\nklo\nvene\npaikka\n\n\n8.00\nElli\nB10\n\n\n8.30\nCharlotta\nA8\n\n\n9.00\nVaakalintu\nB9\n\n\n9.30\nBellus\nA7\n\n\n10.00\nSamanyolu\nB2\n\n\n10.30\nSade\nA9\n\n\n11.00\nRilax\nA2\n\n\n11.30\nPapillon\nB1\n\n\n12.00\nAiju\nB8\n\n\n12.30\nHanibai\nB13
URL:https://teps.fi/tapahtuma/veneiden-yhteisnosto-1/
LOCATION:Suopelto\, Ilolantie 29-39\, Sysmä\, 19700\, Suomi
END:VEVENT
END:VCALENDAR