BEGIN:VCALENDAR
VERSION:2.0
PRODID:-//TePS.fi - ECPv6.15.20//NONSGML v1.0//EN
CALSCALE:GREGORIAN
METHOD:PUBLISH
X-ORIGINAL-URL:https://teps.fi
X-WR-CALDESC:Tapahtumat TePS.fi
REFRESH-INTERVAL;VALUE=DURATION:PT1H
X-Robots-Tag:noindex
X-PUBLISHED-TTL:PT1H
BEGIN:VTIMEZONE
TZID:Europe/Helsinki
BEGIN:DAYLIGHT
TZOFFSETFROM:+0200
TZOFFSETTO:+0300
TZNAME:EEST
DTSTART:20220327T010000
END:DAYLIGHT
BEGIN:STANDARD
TZOFFSETFROM:+0300
TZOFFSETTO:+0200
TZNAME:EET
DTSTART:20221030T010000
END:STANDARD
BEGIN:DAYLIGHT
TZOFFSETFROM:+0200
TZOFFSETTO:+0300
TZNAME:EEST
DTSTART:20230326T010000
END:DAYLIGHT
BEGIN:STANDARD
TZOFFSETFROM:+0300
TZOFFSETTO:+0200
TZNAME:EET
DTSTART:20231029T010000
END:STANDARD
BEGIN:DAYLIGHT
TZOFFSETFROM:+0200
TZOFFSETTO:+0300
TZNAME:EEST
DTSTART:20240331T010000
END:DAYLIGHT
BEGIN:STANDARD
TZOFFSETFROM:+0300
TZOFFSETTO:+0200
TZNAME:EET
DTSTART:20241027T010000
END:STANDARD
END:VTIMEZONE
BEGIN:VEVENT
DTSTART;TZID=Europe/Helsinki:20230506T080000
DTEND;TZID=Europe/Helsinki:20230506T140000
DTSTAMP:20260421T132456
CREATED:20221208T145209Z
LAST-MODIFIED:20230423T183856Z
UID:1690-1683360000-1683381600@teps.fi
SUMMARY:Veneiden yhteislasku (erä 1/2)
DESCRIPTION:Lasku alkaa molempina päivinä klo 8 ja sen pitäisi olla ohi puolen päivän jälkeen. Oman laskun kellonaikaa voi arvioida vajaa/runsas/puoli tuntia/vene laskuajan mukaan. Tulethan joka tapauksessa hyvissä ajoin paikalle. Mikäli haluat oman laskusi toiselle päivälle tai muita muutoksia aikatauluun\, ota yhteyttä Kari Seppälään 045 7832 5740 viimeistään viikkoa ennen suunniteltua laskuvuoroasi.  \nLauantai 6.5.2022 alkaen klo 8 \nFriidu\nElli\nAiju\nTuuli\nSofia\nTango\nKoskelo
URL:https://teps.fi/tapahtuma/yhteislasku1/
LOCATION:New Port Sysmä\, Suopellontie 598\, Sysmä\, 19700\, Suomi
CATEGORIES:Veneiden nostot ja laskut
END:VEVENT
BEGIN:VEVENT
DTSTART;TZID=Europe/Helsinki:20230520T080000
DTEND;TZID=Europe/Helsinki:20230520T140000
DTSTAMP:20260421T132456
CREATED:20221208T122034Z
LAST-MODIFIED:20230423T184011Z
UID:1682-1684569600-1684591200@teps.fi
SUMMARY:Veneiden yhteislasku (erä 2/2)
DESCRIPTION:Lasku alkaa molempina päivinä klo 8 ja sen pitäisi olla ohi puolen päivän jälkeen. Oman laskun kellonaikaa voi arvioida vajaa/runsas/puoli tuntia/vene laskuajan mukaan. Tulethan joka tapauksessa hyvissä ajoin paikalle. Mikäli haluat oman laskusi toiselle päivälle tai muita muutoksia aikatauluun\, ota yhteyttä Kari Seppälään 045 7832 5740 viimeistään viikkoa ennen suunniteltua laskuvuoroasi.  \nLauantai 20.5.2022 alkaen klo 8 \nHarriet\nHanipai\nCharlotta\nBellus\nTuulia s/y\nSelena\nToutain\nPaua\nPapillon
URL:https://teps.fi/tapahtuma/veneiden-yhteislasku-2-2/
LOCATION:New Port Sysmä\, Suopellontie 598\, Sysmä\, 19700\, Suomi
CATEGORIES:Veneiden nostot ja laskut
END:VEVENT
BEGIN:VEVENT
DTSTART;VALUE=DATE:20230521
DTEND;VALUE=DATE:20230522
DTSTAMP:20260421T132456
CREATED:20230511T180931Z
LAST-MODIFIED:20230511T181358Z
UID:1860-1684627200-1684713599@teps.fi
SUMMARY:EPJ:n talkoot ja kauden aloituspäivä\, Vääksy
DESCRIPTION:Katso lisää Etelä-Päijänteen Jollakeskuksen sivuilta!
URL:https://teps.fi/tapahtuma/epjn-talkoot-ja-kauden-aloituspaiva-vaaksy/
LOCATION:Majakkapaviljonki\, Vääksy\, Ämmäläntie 20\, 17200 Vääksy
CATEGORIES:Junioritoiminta
END:VEVENT
BEGIN:VEVENT
DTSTART;VALUE=DATE:20230527
DTEND;VALUE=DATE:20230528
DTSTAMP:20260421T132456
CREATED:20221208T122549Z
LAST-MODIFIED:20230418T185947Z
UID:1686-1685145600-1685231999@teps.fi
SUMMARY:Taruniemen lipunnosto\, kevättalkoot ja yhteiskatsastus 2023
DESCRIPTION:Työntäyteinen päivä Taruniemessä. Tarkempi ohjelma ja ilmoittautumisohjeet tiedotetaan myöhemmin.
URL:https://teps.fi/tapahtuma/taruniemenlky23/
CATEGORIES:Katsastus,Talkoot
END:VEVENT
BEGIN:VEVENT
DTSTART;VALUE=DATE:20230528
DTEND;VALUE=DATE:20230529
DTSTAMP:20260421T132456
CREATED:20230511T181043Z
LAST-MODIFIED:20230511T181439Z
UID:1862-1685232000-1685318399@teps.fi
SUMMARY:EPJ:n treenit\, Vääksy
DESCRIPTION:Katso lisää Etelä-Päijänteen Jollakeskuksen sivuilta!
URL:https://teps.fi/tapahtuma/epjn-treenit-vaaksy/
LOCATION:Majakkapaviljonki\, Vääksy\, Ämmäläntie 20\, 17200 Vääksy
CATEGORIES:Junioritoiminta
END:VEVENT
END:VCALENDAR