BEGIN:VCALENDAR
VERSION:2.0
PRODID:-//TePS.fi - ECPv6.15.20//NONSGML v1.0//EN
CALSCALE:GREGORIAN
METHOD:PUBLISH
X-ORIGINAL-URL:https://teps.fi
X-WR-CALDESC:Tapahtumat TePS.fi
REFRESH-INTERVAL;VALUE=DURATION:PT1H
X-Robots-Tag:noindex
X-PUBLISHED-TTL:PT1H
BEGIN:VTIMEZONE
TZID:Europe/Helsinki
BEGIN:DAYLIGHT
TZOFFSETFROM:+0200
TZOFFSETTO:+0300
TZNAME:EEST
DTSTART:20210328T010000
END:DAYLIGHT
BEGIN:STANDARD
TZOFFSETFROM:+0300
TZOFFSETTO:+0200
TZNAME:EET
DTSTART:20211031T010000
END:STANDARD
BEGIN:DAYLIGHT
TZOFFSETFROM:+0200
TZOFFSETTO:+0300
TZNAME:EEST
DTSTART:20220327T010000
END:DAYLIGHT
BEGIN:STANDARD
TZOFFSETFROM:+0300
TZOFFSETTO:+0200
TZNAME:EET
DTSTART:20221030T010000
END:STANDARD
BEGIN:DAYLIGHT
TZOFFSETFROM:+0200
TZOFFSETTO:+0300
TZNAME:EEST
DTSTART:20230326T010000
END:DAYLIGHT
BEGIN:STANDARD
TZOFFSETFROM:+0300
TZOFFSETTO:+0200
TZNAME:EET
DTSTART:20231029T010000
END:STANDARD
BEGIN:DAYLIGHT
TZOFFSETFROM:+0200
TZOFFSETTO:+0300
TZNAME:EEST
DTSTART:20240331T010000
END:DAYLIGHT
BEGIN:STANDARD
TZOFFSETFROM:+0300
TZOFFSETTO:+0200
TZNAME:EET
DTSTART:20241027T010000
END:STANDARD
END:VTIMEZONE
BEGIN:VEVENT
DTSTART;TZID=Europe/Helsinki:20221214T090000
DTEND;TZID=Europe/Helsinki:20221214T140000
DTSTAMP:20260422T041551
CREATED:20221214T195058Z
LAST-MODIFIED:20230228T133750Z
UID:1718-1671008400-1671026400@teps.fi
SUMMARY:Veneiden yhteisnosto (erä 2/2)
DESCRIPTION:Nostolistat julkaistaan myöhemmin.
URL:https://teps.fi/tapahtuma/veneiden-yhteisnosto-era-2-2/
LOCATION:New Port Sysmä\, Suopellontie 598\, Sysmä\, 19700\, Suomi
CATEGORIES:Veneiden nostot ja laskut
END:VEVENT
BEGIN:VEVENT
DTSTART;TZID=Europe/Helsinki:20230506T080000
DTEND;TZID=Europe/Helsinki:20230506T140000
DTSTAMP:20260422T041551
CREATED:20221208T145209Z
LAST-MODIFIED:20230423T183856Z
UID:1690-1683360000-1683381600@teps.fi
SUMMARY:Veneiden yhteislasku (erä 1/2)
DESCRIPTION:Lasku alkaa molempina päivinä klo 8 ja sen pitäisi olla ohi puolen päivän jälkeen. Oman laskun kellonaikaa voi arvioida vajaa/runsas/puoli tuntia/vene laskuajan mukaan. Tulethan joka tapauksessa hyvissä ajoin paikalle. Mikäli haluat oman laskusi toiselle päivälle tai muita muutoksia aikatauluun\, ota yhteyttä Kari Seppälään 045 7832 5740 viimeistään viikkoa ennen suunniteltua laskuvuoroasi.  \nLauantai 6.5.2022 alkaen klo 8 \nFriidu\nElli\nAiju\nTuuli\nSofia\nTango\nKoskelo
URL:https://teps.fi/tapahtuma/yhteislasku1/
LOCATION:New Port Sysmä\, Suopellontie 598\, Sysmä\, 19700\, Suomi
CATEGORIES:Veneiden nostot ja laskut
END:VEVENT
BEGIN:VEVENT
DTSTART;TZID=Europe/Helsinki:20230520T080000
DTEND;TZID=Europe/Helsinki:20230520T140000
DTSTAMP:20260422T041551
CREATED:20221208T122034Z
LAST-MODIFIED:20230423T184011Z
UID:1682-1684569600-1684591200@teps.fi
SUMMARY:Veneiden yhteislasku (erä 2/2)
DESCRIPTION:Lasku alkaa molempina päivinä klo 8 ja sen pitäisi olla ohi puolen päivän jälkeen. Oman laskun kellonaikaa voi arvioida vajaa/runsas/puoli tuntia/vene laskuajan mukaan. Tulethan joka tapauksessa hyvissä ajoin paikalle. Mikäli haluat oman laskusi toiselle päivälle tai muita muutoksia aikatauluun\, ota yhteyttä Kari Seppälään 045 7832 5740 viimeistään viikkoa ennen suunniteltua laskuvuoroasi.  \nLauantai 20.5.2022 alkaen klo 8 \nHarriet\nHanipai\nCharlotta\nBellus\nTuulia s/y\nSelena\nToutain\nPaua\nPapillon
URL:https://teps.fi/tapahtuma/veneiden-yhteislasku-2-2/
LOCATION:New Port Sysmä\, Suopellontie 598\, Sysmä\, 19700\, Suomi
CATEGORIES:Veneiden nostot ja laskut
END:VEVENT
BEGIN:VEVENT
DTSTART;VALUE=DATE:20230521
DTEND;VALUE=DATE:20230522
DTSTAMP:20260422T041551
CREATED:20230511T180931Z
LAST-MODIFIED:20230511T181358Z
UID:1860-1684627200-1684713599@teps.fi
SUMMARY:EPJ:n talkoot ja kauden aloituspäivä\, Vääksy
DESCRIPTION:Katso lisää Etelä-Päijänteen Jollakeskuksen sivuilta!
URL:https://teps.fi/tapahtuma/epjn-talkoot-ja-kauden-aloituspaiva-vaaksy/
LOCATION:Majakkapaviljonki\, Vääksy\, Ämmäläntie 20\, 17200 Vääksy
CATEGORIES:Junioritoiminta
END:VEVENT
BEGIN:VEVENT
DTSTART;VALUE=DATE:20230527
DTEND;VALUE=DATE:20230528
DTSTAMP:20260422T041551
CREATED:20221208T122549Z
LAST-MODIFIED:20230418T185947Z
UID:1686-1685145600-1685231999@teps.fi
SUMMARY:Taruniemen lipunnosto\, kevättalkoot ja yhteiskatsastus 2023
DESCRIPTION:Työntäyteinen päivä Taruniemessä. Tarkempi ohjelma ja ilmoittautumisohjeet tiedotetaan myöhemmin.
URL:https://teps.fi/tapahtuma/taruniemenlky23/
CATEGORIES:Katsastus,Talkoot
END:VEVENT
BEGIN:VEVENT
DTSTART;VALUE=DATE:20230528
DTEND;VALUE=DATE:20230529
DTSTAMP:20260422T041551
CREATED:20230511T181043Z
LAST-MODIFIED:20230511T181439Z
UID:1862-1685232000-1685318399@teps.fi
SUMMARY:EPJ:n treenit\, Vääksy
DESCRIPTION:Katso lisää Etelä-Päijänteen Jollakeskuksen sivuilta!
URL:https://teps.fi/tapahtuma/epjn-treenit-vaaksy/
LOCATION:Majakkapaviljonki\, Vääksy\, Ämmäläntie 20\, 17200 Vääksy
CATEGORIES:Junioritoiminta
END:VEVENT
BEGIN:VEVENT
DTSTART;TZID=Europe/Helsinki:20230603T090000
DTEND;TZID=Europe/Helsinki:20230603T150000
DTSTAMP:20260422T041551
CREATED:20221214T192421Z
LAST-MODIFIED:20230228T133750Z
UID:1700-1685782800-1685804400@teps.fi
SUMMARY:Yhteiskatsastus
DESCRIPTION:Mahdollinen ilmoittautuminen ja muut ohjeet tiedotetaan myöhemmin.
URL:https://teps.fi/tapahtuma/yhteiskatsastus/
LOCATION:Suopelto\, Ilolantie 29-39\, Sysmä\, 19700\, Suomi
CATEGORIES:Katsastus
END:VEVENT
BEGIN:VEVENT
DTSTART;VALUE=DATE:20230604
DTEND;VALUE=DATE:20230605
DTSTAMP:20260422T041551
CREATED:20230511T181201Z
LAST-MODIFIED:20230511T181513Z
UID:1864-1685836800-1685923199@teps.fi
SUMMARY:EPJ:n treenit\, Vääksy
DESCRIPTION:Katso lisää Etelä-Päijänteen Jollakeskuksen sivuilta!
URL:https://teps.fi/tapahtuma/epjn-treenit-vaaksy-2/
LOCATION:Majakkapaviljonki\, Vääksy\, Ämmäläntie 20\, 17200 Vääksy
CATEGORIES:Junioritoiminta
END:VEVENT
BEGIN:VEVENT
DTSTART;VALUE=DATE:20230605
DTEND;VALUE=DATE:20230609
DTSTAMP:20260422T041551
CREATED:20230511T175602Z
LAST-MODIFIED:20230511T175602Z
UID:1852-1685923200-1686268799@teps.fi
SUMMARY:Purjehduksen alkeis- ja jatkokurssit Vääksyssä
DESCRIPTION:Kurssit on tarkoitettu uimataitoisille 6-15-vuotiaille lapsille ja nuorille. Jollakoulussa saat uusia kavereita ja opit purjehtimiseen liittyvät perusjutut muutamassa päivässä. Kurssin vetäjät ovat Suomen Purjehdus ja Veneily ry:n kouluttamia lasten ja nuorten purjehduksen ohjaajia.  \nKatso lisätiedot ja ilmoittaudu!
URL:https://teps.fi/tapahtuma/purjehduksen-alkeis-ja-jatkokurssit-vaaksyssa/
LOCATION:Majakkapaviljonki\, Vääksy\, Ämmäläntie 20\, 17200 Vääksy
CATEGORIES:Junioritoiminta
ATTACH;FMTTYPE=image/png:https://teps.fi/wp-content/uploads/2023/05/epj2023_3.png
END:VEVENT
BEGIN:VEVENT
DTSTART;VALUE=DATE:20230610
DTEND;VALUE=DATE:20230611
DTSTAMP:20260422T041551
CREATED:20221214T192802Z
LAST-MODIFIED:20230228T133750Z
UID:1702-1686355200-1686441599@teps.fi
SUMMARY:Vuosikokous\, EA-koulutus ja alkukesän juhla. Yhteiskatsastusta Taruniemessä
DESCRIPTION:Kokouksen asialista ja tarkemmat tiedot ilmoittautumisesta\, kuljetuksista ja päivän kulusta tiedotetaan myöhemmin.
URL:https://teps.fi/tapahtuma/vuosikokous-ea-koulutus-ja-alkukesan-juhla-yhteiskatsastusta-taruniemessa/
LOCATION:Taruniemi\, 61.39271422919249\, 25.539911371164823
CATEGORIES:Juhlat,Katsastus,Koulutukset,Vuosikokous
END:VEVENT
BEGIN:VEVENT
DTSTART;VALUE=DATE:20230611
DTEND;VALUE=DATE:20230612
DTSTAMP:20260422T041551
CREATED:20230511T181316Z
LAST-MODIFIED:20230511T181329Z
UID:1866-1686441600-1686527999@teps.fi
SUMMARY:EPJ:n treenit\, Vääksy
DESCRIPTION:Katso lisää Etelä-Päijänteen Jollakeskuksen sivuilta!
URL:https://teps.fi/tapahtuma/epjn-treenit-vaaksy-3/
LOCATION:Majakkapaviljonki\, Vääksy\, Ämmäläntie 20\, 17200 Vääksy
CATEGORIES:Junioritoiminta
END:VEVENT
BEGIN:VEVENT
DTSTART;VALUE=DATE:20230617
DTEND;VALUE=DATE:20230618
DTSTAMP:20260422T041551
CREATED:20230316T063017Z
LAST-MODIFIED:20230318T023523Z
UID:1803-1686960000-1687046399@teps.fi
SUMMARY:Ykskoivu Race (EPR osakilpailu 1)
DESCRIPTION:
URL:https://teps.fi/tapahtuma/ykskoivu-race-epr-osakilpailu-1/
LOCATION:Ykskoivu\, 61.32222617948951\, 25.45124309790745
CATEGORIES:Kilpailu
END:VEVENT
BEGIN:VEVENT
DTSTART;VALUE=DATE:20230625
DTEND;VALUE=DATE:20230626
DTSTAMP:20260422T041551
CREATED:20230511T181630Z
LAST-MODIFIED:20230511T181630Z
UID:1872-1687651200-1687737599@teps.fi
SUMMARY:EPJ:n treenit\, Vääksy
DESCRIPTION:Katso lisää Etelä-Päijänteen Jollakeskuksen sivuilta!
URL:https://teps.fi/tapahtuma/epjn-treenit-vaaksy-4/
LOCATION:Majakkapaviljonki\, Vääksy\, Ämmäläntie 20\, 17200 Vääksy
CATEGORIES:Junioritoiminta
END:VEVENT
BEGIN:VEVENT
DTSTART;VALUE=DATE:20230701
DTEND;VALUE=DATE:20230702
DTSTAMP:20260422T041551
CREATED:20230316T064623Z
LAST-MODIFIED:20230318T023243Z
UID:1806-1688169600-1688255999@teps.fi
SUMMARY:Korea-Varpunen (EPR osakilpailu 2)
DESCRIPTION:
URL:https://teps.fi/tapahtuma/korea-varpunen-epr-osakilpailu-2/
LOCATION:Kalliosaari\, 61.469278\, 25.344874
CATEGORIES:Kilpailu
END:VEVENT
BEGIN:VEVENT
DTSTART;VALUE=DATE:20230702
DTEND;VALUE=DATE:20230703
DTSTAMP:20260422T041551
CREATED:20230511T181816Z
LAST-MODIFIED:20230511T181816Z
UID:1874-1688256000-1688342399@teps.fi
SUMMARY:EPJ:n treenit\, Vääksy
DESCRIPTION:Katso lisää Etelä-Päijänteen Jollakeskuksen sivuilta!
URL:https://teps.fi/tapahtuma/epjn-treenit-vaaksy-5/
LOCATION:Majakkapaviljonki\, Vääksy\, Ämmäläntie 20\, 17200 Vääksy
CATEGORIES:Junioritoiminta
END:VEVENT
BEGIN:VEVENT
DTSTART;VALUE=DATE:20230709
DTEND;VALUE=DATE:20230710
DTSTAMP:20260422T041551
CREATED:20230511T181935Z
LAST-MODIFIED:20230511T181935Z
UID:1876-1688860800-1688947199@teps.fi
SUMMARY:EPJ:n treenit\, Vääksy
DESCRIPTION:Katso lisää Etelä-Päijänteen Jollakeskuksen sivuilta!
URL:https://teps.fi/tapahtuma/epjn-treenit-vaaksy-6/
LOCATION:Majakkapaviljonki\, Vääksy\, Ämmäläntie 20\, 17200 Vääksy
CATEGORIES:Junioritoiminta
END:VEVENT
BEGIN:VEVENT
DTSTART;VALUE=DATE:20230710
DTEND;VALUE=DATE:20230716
DTSTAMP:20260422T041551
CREATED:20230511T180259Z
LAST-MODIFIED:20230511T180259Z
UID:1858-1688947200-1689465599@teps.fi
SUMMARY:Naumin leiri 10.-15-7.2023
DESCRIPTION:Perinteinen Naumin purjehdusleiri järjestetään Naumin leirikeskuksessa Sysmässä. Leiri on tarkoitettu 6-17-vuotiaille lapsille ja nuorille. Leiri on elämyksellinen\, veneilytaitoja opettava ja kiva kavereiden kanssa vietetty kesäviikko. Leirillä majoitutaan omaan tai kaverin kanssa yhteiseen telttaan.
URL:https://teps.fi/tapahtuma/naumin-leiri-10-15-7-2023/
END:VEVENT
BEGIN:VEVENT
DTSTART;VALUE=DATE:20230715
DTEND;VALUE=DATE:20230717
DTSTAMP:20260422T041551
CREATED:20221214T193758Z
LAST-MODIFIED:20230316T073114Z
UID:1705-1689379200-1689551999@teps.fi
SUMMARY:Päijätsalon Purjehdus (EPR osakilpailu 3) ja Päijänteen Mestaruuspurjehdus
DESCRIPTION:Kilpailu- ja ilmoittautumisohjeet sekä tarkempi ohjelma ilmoitetaan myöhemmin.
URL:https://teps.fi/tapahtuma/paijatsalon-purjehdus-epr-osakilpailu-3-ja-paijanteen-mestaruus-pam-15-16-7-aikataulu-vahvistamatta/
LOCATION:Suopelto\, kilpailukeskus\, 61.492377\, 25.582586
CATEGORIES:Kilpailu
END:VEVENT
BEGIN:VEVENT
DTSTART;VALUE=DATE:20230721
DTEND;VALUE=DATE:20230724
DTSTAMP:20260422T041551
CREATED:20221218T181046Z
LAST-MODIFIED:20230228T133749Z
UID:1723-1689897600-1690156799@teps.fi
SUMMARY:Päijännepurjehdus
DESCRIPTION:
URL:https://teps.fi/tapahtuma/paijannepurjehdus-4/
LOCATION:Juurikkasaari Säynätsalo\, Juurikantie 5\, Säynätsalo\, 40900
CATEGORIES:Kilpailu
END:VEVENT
BEGIN:VEVENT
DTSTART;VALUE=DATE:20230730
DTEND;VALUE=DATE:20230731
DTSTAMP:20260422T041551
CREATED:20230511T182051Z
LAST-MODIFIED:20230511T182051Z
UID:1878-1690675200-1690761599@teps.fi
SUMMARY:EPJ:n treenit\, Vääksy
DESCRIPTION:Katso lisää Etelä-Päijänteen Jollakeskuksen sivuilta!
URL:https://teps.fi/tapahtuma/epjn-treenit-vaaksy-7/
LOCATION:Majakkapaviljonki\, Vääksy\, Ämmäläntie 20\, 17200 Vääksy
CATEGORIES:Junioritoiminta
END:VEVENT
BEGIN:VEVENT
DTSTART;VALUE=DATE:20230805
DTEND;VALUE=DATE:20230806
DTSTAMP:20260422T041551
CREATED:20230316T071725Z
LAST-MODIFIED:20230316T073131Z
UID:1811-1691193600-1691279999@teps.fi
SUMMARY:Pirttisaaren Purjehdus (EPR osakilpailu 4)
DESCRIPTION:
URL:https://teps.fi/tapahtuma/pirttisaaren-purjehdus-epr-osakilpailu-4/
LOCATION:Pirttisaari\, 61.477521\, 25.351921
CATEGORIES:Kilpailu
END:VEVENT
BEGIN:VEVENT
DTSTART;VALUE=DATE:20230806
DTEND;VALUE=DATE:20230807
DTSTAMP:20260422T041551
CREATED:20230511T182354Z
LAST-MODIFIED:20230511T182354Z
UID:1881-1691280000-1691366399@teps.fi
SUMMARY:EPJ:n treenit\, Vääksy
DESCRIPTION:Katso lisää Etelä-Päijänteen Jollakeskuksen sivuilta!
URL:https://teps.fi/tapahtuma/epjn-treenit-vaaksy-8/
LOCATION:Majakkapaviljonki\, Vääksy\, Ämmäläntie 20\, 17200 Vääksy
CATEGORIES:Junioritoiminta
END:VEVENT
BEGIN:VEVENT
DTSTART;TZID=Europe/Helsinki:20230812T080000
DTEND;TZID=Europe/Helsinki:20230812T170000
DTSTAMP:20260422T041551
CREATED:20221214T194150Z
LAST-MODIFIED:20230705T084109Z
UID:1708-1691827200-1691859600@teps.fi
SUMMARY:TePSin veneretki Pirttisaareen (APS)
DESCRIPTION:Yhdessä veneilyä Päijänteen aalloilla. Reitti\, ilmoittautuminen ja tarkempi aikataulu ilmoitetaan myöhemmin.
URL:https://teps.fi/tapahtuma/tepsin-veneretki/
LOCATION:Pirttisaari\, 61.477521\, 25.351921
END:VEVENT
BEGIN:VEVENT
DTSTART;VALUE=DATE:20230820
DTEND;VALUE=DATE:20230821
DTSTAMP:20260422T041551
CREATED:20230511T182507Z
LAST-MODIFIED:20230511T182507Z
UID:1883-1692489600-1692575999@teps.fi
SUMMARY:EPJ:n treenit\, Vääksy
DESCRIPTION:Katso lisää Etelä-Päijänteen Jollakeskuksen sivuilta!
URL:https://teps.fi/tapahtuma/epjn-treenit-vaaksy-9/
LOCATION:Majakkapaviljonki\, Vääksy\, Ämmäläntie 20\, 17200 Vääksy
CATEGORIES:Junioritoiminta
END:VEVENT
BEGIN:VEVENT
DTSTART;VALUE=DATE:20230826
DTEND;VALUE=DATE:20230827
DTSTAMP:20260422T041551
CREATED:20230316T072508Z
LAST-MODIFIED:20230321T182922Z
UID:1814-1693008000-1693094399@teps.fi
SUMMARY:Punapään ympäripurjehdus (EPR osakilpailu 5)
DESCRIPTION:
URL:https://teps.fi/tapahtuma/punapaan-ymparipurjehdus-epr-osakilpailu-5/
LOCATION:Hirvisaari\, 61.350493\, 25.490496
CATEGORIES:Kilpailu
END:VEVENT
BEGIN:VEVENT
DTSTART;VALUE=DATE:20230827
DTEND;VALUE=DATE:20230828
DTSTAMP:20260422T041551
CREATED:20230511T182557Z
LAST-MODIFIED:20230511T182557Z
UID:1885-1693094400-1693180799@teps.fi
SUMMARY:EPJ:n treenit\, Vääksy
DESCRIPTION:Katso lisää Etelä-Päijänteen Jollakeskuksen sivuilta!
URL:https://teps.fi/tapahtuma/epjn-treenit-vaaksy-10/
CATEGORIES:Junioritoiminta
END:VEVENT
BEGIN:VEVENT
DTSTART;VALUE=DATE:20230903
DTEND;VALUE=DATE:20230904
DTSTAMP:20260422T041551
CREATED:20230511T182710Z
LAST-MODIFIED:20230511T182710Z
UID:1887-1693699200-1693785599@teps.fi
SUMMARY:EPJ:n treenit\, Vääksy
DESCRIPTION:Katso lisää Etelä-Päijänteen Jollakeskuksen sivuilta!
URL:https://teps.fi/tapahtuma/epjn-treenit-vaaksy-11/
LOCATION:Majakkapaviljonki\, Vääksy\, Ämmäläntie 20\, 17200 Vääksy
CATEGORIES:Junioritoiminta
END:VEVENT
BEGIN:VEVENT
DTSTART;VALUE=DATE:20230909
DTEND;VALUE=DATE:20230910
DTSTAMP:20260422T041551
CREATED:20221214T194418Z
LAST-MODIFIED:20230228T133749Z
UID:1710-1694217600-1694303999@teps.fi
SUMMARY:Syystalkoot\, lipunlasku ja venetsialaiset Taruniemessä
DESCRIPTION:Ilmoittautuminen ja muu tarkempi tieto päivästä julkaistaan myöhemmin.
URL:https://teps.fi/tapahtuma/syystalkoot-lipunlasku-ja-venetsialaiset-taruniemessa/
LOCATION:Taruniemi\, 61.39271422919249\, 25.539911371164823
CATEGORIES:Talkoot
END:VEVENT
BEGIN:VEVENT
DTSTART;VALUE=DATE:20230909
DTEND;VALUE=DATE:20230911
DTSTAMP:20260422T041551
CREATED:20230511T180020Z
LAST-MODIFIED:20230511T180020Z
UID:1856-1694217600-1694390399@teps.fi
SUMMARY:EPJ:n syysleiri Vääksyssä la-su 9.–10.9.2023 ja kauden päätösjuhlat
DESCRIPTION:Jollakeskuksen kauden päätös on perinteinen minileiri Vääksyn maisemissa. Leiri alkaa Majakalla la klo 10 ja päättyy su klo 16. \nKatso lisätiedot ja ilmoittaudu!
URL:https://teps.fi/tapahtuma/epjn-syysleiri-vaaksyssa-la-su-9-10-9-2023-ja-kauden-paatosjuhlat/
LOCATION:Majakkapaviljonki\, Vääksy\, Ämmäläntie 20\, 17200 Vääksy
CATEGORIES:Junioritoiminta
END:VEVENT
BEGIN:VEVENT
DTSTART;TZID=Europe/Helsinki:20230916T100000
DTEND;TZID=Europe/Helsinki:20230916T170000
DTSTAMP:20260422T041551
CREATED:20221214T194623Z
LAST-MODIFIED:20230922T090746Z
UID:1712-1694858400-1694883600@teps.fi
SUMMARY:Lanssitalkoot Suopellossa
DESCRIPTION:Telakka siistitään yhdessä ennen veneiden nostoja.
URL:https://teps.fi/tapahtuma/lanssitalkoot-suopellossa-16-9/
LOCATION:New Port Sysmä\, Suopellontie 598\, Sysmä\, 19700\, Suomi
CATEGORIES:Talkoot
END:VEVENT
END:VCALENDAR